BEGIN:VCALENDAR
VERSION:2.0
PRODID:-//PSU Aphasia - ECPv6.15.18//NONSGML v1.0//EN
CALSCALE:GREGORIAN
METHOD:PUBLISH
X-WR-CALNAME:PSU Aphasia
X-ORIGINAL-URL:https://www.psu-aphasia.com
X-WR-CALDESC:Events for PSU Aphasia
REFRESH-INTERVAL;VALUE=DURATION:PT1H
X-Robots-Tag:noindex
X-PUBLISHED-TTL:PT1H
BEGIN:VTIMEZONE
TZID:America/New_York
BEGIN:DAYLIGHT
TZOFFSETFROM:-0500
TZOFFSETTO:-0400
TZNAME:EDT
DTSTART:20220313T070000
END:DAYLIGHT
BEGIN:STANDARD
TZOFFSETFROM:-0400
TZOFFSETTO:-0500
TZNAME:EST
DTSTART:20221106T060000
END:STANDARD
BEGIN:DAYLIGHT
TZOFFSETFROM:-0500
TZOFFSETTO:-0400
TZNAME:EDT
DTSTART:20230312T070000
END:DAYLIGHT
BEGIN:STANDARD
TZOFFSETFROM:-0400
TZOFFSETTO:-0500
TZNAME:EST
DTSTART:20231105T060000
END:STANDARD
BEGIN:DAYLIGHT
TZOFFSETFROM:-0500
TZOFFSETTO:-0400
TZNAME:EDT
DTSTART:20240310T070000
END:DAYLIGHT
BEGIN:STANDARD
TZOFFSETFROM:-0400
TZOFFSETTO:-0500
TZNAME:EST
DTSTART:20241103T060000
END:STANDARD
END:VTIMEZONE
BEGIN:VEVENT
DTSTART;TZID=America/New_York:20230603T090000
DTEND;TZID=America/New_York:20230603T110000
DTSTAMP:20260419T085343
CREATED:20230524T181015Z
LAST-MODIFIED:20230530T213442Z
UID:10000062-1685782800-1685790000@www.psu-aphasia.com
SUMMARY:Mental Health and Hope - June 3\, 2023
DESCRIPTION:“Things You Should Know About Mental Health and Aphasia”\n  \nEach joins this Saturday to join for a free virtual event with a guest speaker in a Zoom format.
URL:https://www.psu-aphasia.com/event/mental-health-and-hope/
CATEGORIES:just ASK
END:VEVENT
END:VCALENDAR