BEGIN:VCALENDAR
VERSION:2.0
PRODID:-//PSU Aphasia - ECPv6.15.18//NONSGML v1.0//EN
CALSCALE:GREGORIAN
METHOD:PUBLISH
X-ORIGINAL-URL:https://www.psu-aphasia.com
X-WR-CALDESC:Events for PSU Aphasia
REFRESH-INTERVAL;VALUE=DURATION:PT1H
X-Robots-Tag:noindex
X-PUBLISHED-TTL:PT1H
BEGIN:VTIMEZONE
TZID:America/New_York
BEGIN:DAYLIGHT
TZOFFSETFROM:-0500
TZOFFSETTO:-0400
TZNAME:EDT
DTSTART:20220313T070000
END:DAYLIGHT
BEGIN:STANDARD
TZOFFSETFROM:-0400
TZOFFSETTO:-0500
TZNAME:EST
DTSTART:20221106T060000
END:STANDARD
BEGIN:DAYLIGHT
TZOFFSETFROM:-0500
TZOFFSETTO:-0400
TZNAME:EDT
DTSTART:20230312T070000
END:DAYLIGHT
BEGIN:STANDARD
TZOFFSETFROM:-0400
TZOFFSETTO:-0500
TZNAME:EST
DTSTART:20231105T060000
END:STANDARD
BEGIN:DAYLIGHT
TZOFFSETFROM:-0500
TZOFFSETTO:-0400
TZNAME:EDT
DTSTART:20240310T070000
END:DAYLIGHT
BEGIN:STANDARD
TZOFFSETFROM:-0400
TZOFFSETTO:-0500
TZNAME:EST
DTSTART:20241103T060000
END:STANDARD
BEGIN:DAYLIGHT
TZOFFSETFROM:-0500
TZOFFSETTO:-0400
TZNAME:EDT
DTSTART:20250309T070000
END:DAYLIGHT
BEGIN:STANDARD
TZOFFSETFROM:-0400
TZOFFSETTO:-0500
TZNAME:EST
DTSTART:20251102T060000
END:STANDARD
BEGIN:DAYLIGHT
TZOFFSETFROM:-0500
TZOFFSETTO:-0400
TZNAME:EDT
DTSTART:20260308T070000
END:DAYLIGHT
BEGIN:STANDARD
TZOFFSETFROM:-0400
TZOFFSETTO:-0500
TZNAME:EST
DTSTART:20261101T060000
END:STANDARD
BEGIN:DAYLIGHT
TZOFFSETFROM:-0500
TZOFFSETTO:-0400
TZNAME:EDT
DTSTART:20270314T070000
END:DAYLIGHT
BEGIN:STANDARD
TZOFFSETFROM:-0400
TZOFFSETTO:-0500
TZNAME:EST
DTSTART:20271107T060000
END:STANDARD
BEGIN:DAYLIGHT
TZOFFSETFROM:-0500
TZOFFSETTO:-0400
TZNAME:EDT
DTSTART:20280312T070000
END:DAYLIGHT
BEGIN:STANDARD
TZOFFSETFROM:-0400
TZOFFSETTO:-0500
TZNAME:EST
DTSTART:20281105T060000
END:STANDARD
END:VTIMEZONE
BEGIN:VEVENT
DTSTART;TZID=America/New_York:20230603T090000
DTEND;TZID=America/New_York:20230603T110000
DTSTAMP:20260419T090940
CREATED:20230524T181015Z
LAST-MODIFIED:20230530T213442Z
UID:10000062-1685782800-1685790000@www.psu-aphasia.com
SUMMARY:Mental Health and Hope - June 3\, 2023
DESCRIPTION:“Things You Should Know About Mental Health and Aphasia”\n  \nEach joins this Saturday to join for a free virtual event with a guest speaker in a Zoom format.
URL:https://www.psu-aphasia.com/event/mental-health-and-hope/
CATEGORIES:just ASK
END:VEVENT
BEGIN:VEVENT
DTSTART;TZID=America/New_York:20230610T090000
DTEND;TZID=America/New_York:20230610T110000
DTSTAMP:20260419T090940
CREATED:20230524T203137Z
LAST-MODIFIED:20230530T213413Z
UID:10000063-1686387600-1686394800@www.psu-aphasia.com
SUMMARY:Mental Health and Hope - June 10\, 2023
DESCRIPTION:“The Other Voice of Aphasia: Caring for the Cara Partner”\n  \nEach joins this Saturday to join for a free virtual event with a guest speaker in a Zoom format.
URL:https://www.psu-aphasia.com/event/mental-health-and-hope-june-10-2023/
CATEGORIES:just ASK
END:VEVENT
BEGIN:VEVENT
DTSTART;TZID=America/New_York:20230612T190000
DTEND;TZID=America/New_York:20230612T203000
DTSTAMP:20260419T090940
CREATED:20230524T205407Z
LAST-MODIFIED:20230530T213334Z
UID:10000066-1686596400-1686601800@www.psu-aphasia.com
SUMMARY:Second Annual Virtual Atlantic Aphasia Conference 2023
DESCRIPTION:Second Annual Virtual Atlantic Aphasia Conference 2023\n\nMark the date! National Aphasia Awareness Virtual Mid-Atlantic Aphasia Conference  June 12\, 2023 at 7:00PM EDT. \nPlease register at https://www.eventbrite.com/e/virtual-mid-atlantic-aphasia-conference-tickets-626559946667 \nFree Tickets
URL:https://www.psu-aphasia.com/event/second-annual-virtual-atlantic-aphasia-conference-2023/
CATEGORIES:MAAC
ORGANIZER;CN="Mid-Atlantic Aphasia Conferance (MAAC)":MAILTO:msharder.maac@gmail.com
END:VEVENT
BEGIN:VEVENT
DTSTART;TZID=America/New_York:20230614T133000
DTEND;TZID=America/New_York:20230614T150000
DTSTAMP:20260419T090940
CREATED:20230531T145845Z
LAST-MODIFIED:20230531T151157Z
UID:10000070-1686749400-1686754800@www.psu-aphasia.com
SUMMARY:Aphasia Reflection: Then & Now
DESCRIPTION:Aphasia Reflections: Then and Now\nDiscuss with a Panel of People Living with Aphasia\n \nThen: If you went back in time to visit yourself 24 hours after your stroke\, what would you want yourself to know? What advice would you share: \nNow: What do you find most helpful or supportive these days? Let’s share some ‘aphasia daily life hacks’! \n  \n 
URL:https://www.psu-aphasia.com/event/aphasia-reflection-then-now/
LOCATION:MossRehab\, Elkins Park\, 60 Township Line\, Elkins Park\, PA\, 19027\, United States
END:VEVENT
BEGIN:VEVENT
DTSTART;TZID=America/New_York:20230617T090000
DTEND;TZID=America/New_York:20230617T110000
DTSTAMP:20260419T090940
CREATED:20230524T203509Z
LAST-MODIFIED:20230530T213251Z
UID:10000064-1686992400-1686999600@www.psu-aphasia.com
SUMMARY:Mental Health and Hope - June 17\, 2023
DESCRIPTION:“What’s the Connection? Mental Health and Your Brain”\n  \nEach joins this Saturday to join for a free virtual event with a guest speaker in a Zoom format.
URL:https://www.psu-aphasia.com/event/mental-health-and-hope-june-17-2023/
CATEGORIES:just ASK
END:VEVENT
BEGIN:VEVENT
DTSTART;TZID=America/New_York:20230624T090000
DTEND;TZID=America/New_York:20230624T110000
DTSTAMP:20260419T090940
CREATED:20230524T203643Z
LAST-MODIFIED:20230530T213214Z
UID:10000065-1687597200-1687604400@www.psu-aphasia.com
SUMMARY:Mental Health and Hope - June 24\, 2023
DESCRIPTION:“Identity Theft: Rediscovering Ourselves After Stroke”\n  \nEach joins this Saturday to join for a free virtual event with a guest speaker in a Zoom format.
URL:https://www.psu-aphasia.com/event/mental-health-and-hope-june-24-2023/
CATEGORIES:just ASK
END:VEVENT
BEGIN:VEVENT
DTSTART;TZID=America/New_York:20230625T140000
DTEND;TZID=America/New_York:20230625T163000
DTSTAMP:20260419T090940
CREATED:20230524T225825Z
LAST-MODIFIED:20230530T213047Z
UID:10000067-1687701600-1687710600@www.psu-aphasia.com
SUMMARY:MAAC Aphasia Awareness Month
DESCRIPTION:Wellness and Self-care by Chrissy Isaac\, LCSW\, LCADC\n  \nMeet & greet people with aphasia\, care partners\, families\, and others! \nMunicipal Complex Park – Amphitheater \n2501 Bath Rd Bristol\, PA 19007 \nJune 25th \n2:00-4:30 pm \nBring your own lawn chairs. \nQuestions? Contract Mark Harder \nmsharder.maac@email.com \n215-852-0730
URL:https://www.psu-aphasia.com/event/maac-aphasia-awareness-month/
LOCATION:Municipal Complex Park – Amphitheater\, 2501 Bath Rd\, Bristol\, PA\, 19007\, United States
CATEGORIES:MAAC
ORGANIZER;CN="Mid-Atlantic Aphasia Conferance (MAAC)":MAILTO:msharder.maac@gmail.com
END:VEVENT
BEGIN:VEVENT
DTSTART;TZID=America/New_York:20260129T190000
DTEND;TZID=America/New_York:20260129T200000
DTSTAMP:20260419T090940
CREATED:20251219T010616Z
LAST-MODIFIED:20260113T231519Z
UID:10000090-1769713200-1769716800@www.psu-aphasia.com
SUMMARY:PSU Alumni Aphasia Group Next Monthly Meeting
DESCRIPTION:Hey\, who have alumni or care from someone who does and SLP Alums in aphasia: Come to our next meeting! We will be sharing stories about mementos from Penn State. See you there! Please spread the word.
URL:https://www.psu-aphasia.com/event/psu-alumni-aphasia-group-next-monthly-meeting-2-2/
CATEGORIES:PSU-Aphasia
ATTACH;FMTTYPE=image/jpeg:https://www.psu-aphasia.com/wp-content/uploads/2023/05/Penn-State-Alumni-Aphasia-Group-Flyer-scaled.jpg
ORGANIZER;CN="Penn State Alumni Aphasia Group":MAILTO:psualumniaphasia@gmail.com
END:VEVENT
BEGIN:VEVENT
DTSTART;TZID=America/New_York:20260226T190000
DTEND;TZID=America/New_York:20260226T200000
DTSTAMP:20260419T090940
CREATED:20260114T001819Z
LAST-MODIFIED:20260114T001820Z
UID:10000148-1772132400-1772136000@www.psu-aphasia.com
SUMMARY:PSU Alumni Aphasia Group Next Monthly Meeting
DESCRIPTION:Hey\, who have alumni or care from someone who does and SLP Alums in aphasia: Come to our next meeting! We will be sharing stories about mementos from Penn State. See you there! Please spread the word.
URL:https://www.psu-aphasia.com/event/psu-alumni-aphasia-group-next-monthly-meeting-2-2-2/2026-02-26/
CATEGORIES:PSU-Aphasia
ATTACH;FMTTYPE=image/jpeg:https://www.psu-aphasia.com/wp-content/uploads/2023/05/Penn-State-Alumni-Aphasia-Group-Flyer-scaled.jpg
ORGANIZER;CN="Penn State Alumni Aphasia Group":MAILTO:psualumniaphasia@gmail.com
END:VEVENT
BEGIN:VEVENT
DTSTART;TZID=America/New_York:20260326T190000
DTEND;TZID=America/New_York:20260326T200000
DTSTAMP:20260419T090940
CREATED:20260114T001819Z
LAST-MODIFIED:20260114T001820Z
UID:10000168-1774551600-1774555200@www.psu-aphasia.com
SUMMARY:PSU Alumni Aphasia Group Next Monthly Meeting
DESCRIPTION:Hey\, who have alumni or care from someone who does and SLP Alums in aphasia: Come to our next meeting! We will be sharing stories about mementos from Penn State. See you there! Please spread the word.
URL:https://www.psu-aphasia.com/event/psu-alumni-aphasia-group-next-monthly-meeting-2-2-2/2026-03-26/
CATEGORIES:PSU-Aphasia
ATTACH;FMTTYPE=image/jpeg:https://www.psu-aphasia.com/wp-content/uploads/2023/05/Penn-State-Alumni-Aphasia-Group-Flyer-scaled.jpg
ORGANIZER;CN="Penn State Alumni Aphasia Group":MAILTO:psualumniaphasia@gmail.com
END:VEVENT
BEGIN:VEVENT
DTSTART;TZID=America/New_York:20260423T190000
DTEND;TZID=America/New_York:20260423T200000
DTSTAMP:20260419T090940
CREATED:20260114T001819Z
LAST-MODIFIED:20260114T001820Z
UID:10000169-1776970800-1776974400@www.psu-aphasia.com
SUMMARY:PSU Alumni Aphasia Group Next Monthly Meeting
DESCRIPTION:Hey\, who have alumni or care from someone who does and SLP Alums in aphasia: Come to our next meeting! We will be sharing stories about mementos from Penn State. See you there! Please spread the word.
URL:https://www.psu-aphasia.com/event/psu-alumni-aphasia-group-next-monthly-meeting-2-2-2/2026-04-23/
CATEGORIES:PSU-Aphasia
ATTACH;FMTTYPE=image/jpeg:https://www.psu-aphasia.com/wp-content/uploads/2023/05/Penn-State-Alumni-Aphasia-Group-Flyer-scaled.jpg
ORGANIZER;CN="Penn State Alumni Aphasia Group":MAILTO:psualumniaphasia@gmail.com
END:VEVENT
BEGIN:VEVENT
DTSTART;TZID=America/New_York:20260528T190000
DTEND;TZID=America/New_York:20260528T200000
DTSTAMP:20260419T090940
CREATED:20260114T001819Z
LAST-MODIFIED:20260114T001820Z
UID:10000170-1779994800-1779998400@www.psu-aphasia.com
SUMMARY:PSU Alumni Aphasia Group Next Monthly Meeting
DESCRIPTION:Hey\, who have alumni or care from someone who does and SLP Alums in aphasia: Come to our next meeting! We will be sharing stories about mementos from Penn State. See you there! Please spread the word.
URL:https://www.psu-aphasia.com/event/psu-alumni-aphasia-group-next-monthly-meeting-2-2-2/2026-05-28/
CATEGORIES:PSU-Aphasia
ATTACH;FMTTYPE=image/jpeg:https://www.psu-aphasia.com/wp-content/uploads/2023/05/Penn-State-Alumni-Aphasia-Group-Flyer-scaled.jpg
ORGANIZER;CN="Penn State Alumni Aphasia Group":MAILTO:psualumniaphasia@gmail.com
END:VEVENT
BEGIN:VEVENT
DTSTART;TZID=America/New_York:20260625T190000
DTEND;TZID=America/New_York:20260625T200000
DTSTAMP:20260419T090940
CREATED:20260114T001819Z
LAST-MODIFIED:20260114T001820Z
UID:10000171-1782414000-1782417600@www.psu-aphasia.com
SUMMARY:PSU Alumni Aphasia Group Next Monthly Meeting
DESCRIPTION:Hey\, who have alumni or care from someone who does and SLP Alums in aphasia: Come to our next meeting! We will be sharing stories about mementos from Penn State. See you there! Please spread the word.
URL:https://www.psu-aphasia.com/event/psu-alumni-aphasia-group-next-monthly-meeting-2-2-2/2026-06-25/
CATEGORIES:PSU-Aphasia
ATTACH;FMTTYPE=image/jpeg:https://www.psu-aphasia.com/wp-content/uploads/2023/05/Penn-State-Alumni-Aphasia-Group-Flyer-scaled.jpg
ORGANIZER;CN="Penn State Alumni Aphasia Group":MAILTO:psualumniaphasia@gmail.com
END:VEVENT
BEGIN:VEVENT
DTSTART;TZID=America/New_York:20260723T190000
DTEND;TZID=America/New_York:20260723T200000
DTSTAMP:20260419T090940
CREATED:20260114T001819Z
LAST-MODIFIED:20260114T001820Z
UID:10000172-1784833200-1784836800@www.psu-aphasia.com
SUMMARY:PSU Alumni Aphasia Group Next Monthly Meeting
DESCRIPTION:Hey\, who have alumni or care from someone who does and SLP Alums in aphasia: Come to our next meeting! We will be sharing stories about mementos from Penn State. See you there! Please spread the word.
URL:https://www.psu-aphasia.com/event/psu-alumni-aphasia-group-next-monthly-meeting-2-2-2/2026-07-23/
CATEGORIES:PSU-Aphasia
ATTACH;FMTTYPE=image/jpeg:https://www.psu-aphasia.com/wp-content/uploads/2023/05/Penn-State-Alumni-Aphasia-Group-Flyer-scaled.jpg
ORGANIZER;CN="Penn State Alumni Aphasia Group":MAILTO:psualumniaphasia@gmail.com
END:VEVENT
BEGIN:VEVENT
DTSTART;TZID=America/New_York:20260827T190000
DTEND;TZID=America/New_York:20260827T200000
DTSTAMP:20260419T090940
CREATED:20260114T001819Z
LAST-MODIFIED:20260114T001820Z
UID:10000173-1787857200-1787860800@www.psu-aphasia.com
SUMMARY:PSU Alumni Aphasia Group Next Monthly Meeting
DESCRIPTION:Hey\, who have alumni or care from someone who does and SLP Alums in aphasia: Come to our next meeting! We will be sharing stories about mementos from Penn State. See you there! Please spread the word.
URL:https://www.psu-aphasia.com/event/psu-alumni-aphasia-group-next-monthly-meeting-2-2-2/2026-08-27/
CATEGORIES:PSU-Aphasia
ATTACH;FMTTYPE=image/jpeg:https://www.psu-aphasia.com/wp-content/uploads/2023/05/Penn-State-Alumni-Aphasia-Group-Flyer-scaled.jpg
ORGANIZER;CN="Penn State Alumni Aphasia Group":MAILTO:psualumniaphasia@gmail.com
END:VEVENT
BEGIN:VEVENT
DTSTART;TZID=America/New_York:20260924T190000
DTEND;TZID=America/New_York:20260924T200000
DTSTAMP:20260419T090940
CREATED:20260114T001819Z
LAST-MODIFIED:20260114T001820Z
UID:10000174-1790276400-1790280000@www.psu-aphasia.com
SUMMARY:PSU Alumni Aphasia Group Next Monthly Meeting
DESCRIPTION:Hey\, who have alumni or care from someone who does and SLP Alums in aphasia: Come to our next meeting! We will be sharing stories about mementos from Penn State. See you there! Please spread the word.
URL:https://www.psu-aphasia.com/event/psu-alumni-aphasia-group-next-monthly-meeting-2-2-2/2026-09-24/
CATEGORIES:PSU-Aphasia
ATTACH;FMTTYPE=image/jpeg:https://www.psu-aphasia.com/wp-content/uploads/2023/05/Penn-State-Alumni-Aphasia-Group-Flyer-scaled.jpg
ORGANIZER;CN="Penn State Alumni Aphasia Group":MAILTO:psualumniaphasia@gmail.com
END:VEVENT
BEGIN:VEVENT
DTSTART;TZID=America/New_York:20261022T190000
DTEND;TZID=America/New_York:20261022T200000
DTSTAMP:20260419T090940
CREATED:20260114T001819Z
LAST-MODIFIED:20260114T001820Z
UID:10000175-1792695600-1792699200@www.psu-aphasia.com
SUMMARY:PSU Alumni Aphasia Group Next Monthly Meeting
DESCRIPTION:Hey\, who have alumni or care from someone who does and SLP Alums in aphasia: Come to our next meeting! We will be sharing stories about mementos from Penn State. See you there! Please spread the word.
URL:https://www.psu-aphasia.com/event/psu-alumni-aphasia-group-next-monthly-meeting-2-2-2/2026-10-22/
CATEGORIES:PSU-Aphasia
ATTACH;FMTTYPE=image/jpeg:https://www.psu-aphasia.com/wp-content/uploads/2023/05/Penn-State-Alumni-Aphasia-Group-Flyer-scaled.jpg
ORGANIZER;CN="Penn State Alumni Aphasia Group":MAILTO:psualumniaphasia@gmail.com
END:VEVENT
BEGIN:VEVENT
DTSTART;TZID=America/New_York:20261126T190000
DTEND;TZID=America/New_York:20261126T200000
DTSTAMP:20260419T090940
CREATED:20260114T001819Z
LAST-MODIFIED:20260114T001820Z
UID:10000176-1795719600-1795723200@www.psu-aphasia.com
SUMMARY:PSU Alumni Aphasia Group Next Monthly Meeting
DESCRIPTION:Hey\, who have alumni or care from someone who does and SLP Alums in aphasia: Come to our next meeting! We will be sharing stories about mementos from Penn State. See you there! Please spread the word.
URL:https://www.psu-aphasia.com/event/psu-alumni-aphasia-group-next-monthly-meeting-2-2-2/2026-11-26/
CATEGORIES:PSU-Aphasia
ATTACH;FMTTYPE=image/jpeg:https://www.psu-aphasia.com/wp-content/uploads/2023/05/Penn-State-Alumni-Aphasia-Group-Flyer-scaled.jpg
ORGANIZER;CN="Penn State Alumni Aphasia Group":MAILTO:psualumniaphasia@gmail.com
END:VEVENT
BEGIN:VEVENT
DTSTART;TZID=America/New_York:20261224T190000
DTEND;TZID=America/New_York:20261224T200000
DTSTAMP:20260419T090940
CREATED:20260114T001819Z
LAST-MODIFIED:20260114T001820Z
UID:10000177-1798138800-1798142400@www.psu-aphasia.com
SUMMARY:PSU Alumni Aphasia Group Next Monthly Meeting
DESCRIPTION:Hey\, who have alumni or care from someone who does and SLP Alums in aphasia: Come to our next meeting! We will be sharing stories about mementos from Penn State. See you there! Please spread the word.
URL:https://www.psu-aphasia.com/event/psu-alumni-aphasia-group-next-monthly-meeting-2-2-2/2026-12-24/
CATEGORIES:PSU-Aphasia
ATTACH;FMTTYPE=image/jpeg:https://www.psu-aphasia.com/wp-content/uploads/2023/05/Penn-State-Alumni-Aphasia-Group-Flyer-scaled.jpg
ORGANIZER;CN="Penn State Alumni Aphasia Group":MAILTO:psualumniaphasia@gmail.com
END:VEVENT
BEGIN:VEVENT
DTSTART;TZID=America/New_York:20270128T190000
DTEND;TZID=America/New_York:20270128T200000
DTSTAMP:20260419T090940
CREATED:20260114T001819Z
LAST-MODIFIED:20260114T001820Z
UID:10000178-1801162800-1801166400@www.psu-aphasia.com
SUMMARY:PSU Alumni Aphasia Group Next Monthly Meeting
DESCRIPTION:Hey\, who have alumni or care from someone who does and SLP Alums in aphasia: Come to our next meeting! We will be sharing stories about mementos from Penn State. See you there! Please spread the word.
URL:https://www.psu-aphasia.com/event/psu-alumni-aphasia-group-next-monthly-meeting-2-2-2/2027-01-28/
CATEGORIES:PSU-Aphasia
ATTACH;FMTTYPE=image/jpeg:https://www.psu-aphasia.com/wp-content/uploads/2023/05/Penn-State-Alumni-Aphasia-Group-Flyer-scaled.jpg
ORGANIZER;CN="Penn State Alumni Aphasia Group":MAILTO:psualumniaphasia@gmail.com
END:VEVENT
BEGIN:VEVENT
DTSTART;TZID=America/New_York:20270225T190000
DTEND;TZID=America/New_York:20270225T200000
DTSTAMP:20260419T090940
CREATED:20260114T001819Z
LAST-MODIFIED:20260114T001820Z
UID:10000179-1803582000-1803585600@www.psu-aphasia.com
SUMMARY:PSU Alumni Aphasia Group Next Monthly Meeting
DESCRIPTION:Hey\, who have alumni or care from someone who does and SLP Alums in aphasia: Come to our next meeting! We will be sharing stories about mementos from Penn State. See you there! Please spread the word.
URL:https://www.psu-aphasia.com/event/psu-alumni-aphasia-group-next-monthly-meeting-2-2-2/2027-02-25/
CATEGORIES:PSU-Aphasia
ATTACH;FMTTYPE=image/jpeg:https://www.psu-aphasia.com/wp-content/uploads/2023/05/Penn-State-Alumni-Aphasia-Group-Flyer-scaled.jpg
ORGANIZER;CN="Penn State Alumni Aphasia Group":MAILTO:psualumniaphasia@gmail.com
END:VEVENT
BEGIN:VEVENT
DTSTART;TZID=America/New_York:20270325T190000
DTEND;TZID=America/New_York:20270325T200000
DTSTAMP:20260419T090940
CREATED:20260114T001819Z
LAST-MODIFIED:20260114T001820Z
UID:10000180-1806001200-1806004800@www.psu-aphasia.com
SUMMARY:PSU Alumni Aphasia Group Next Monthly Meeting
DESCRIPTION:Hey\, who have alumni or care from someone who does and SLP Alums in aphasia: Come to our next meeting! We will be sharing stories about mementos from Penn State. See you there! Please spread the word.
URL:https://www.psu-aphasia.com/event/psu-alumni-aphasia-group-next-monthly-meeting-2-2-2/2027-03-25/
CATEGORIES:PSU-Aphasia
ATTACH;FMTTYPE=image/jpeg:https://www.psu-aphasia.com/wp-content/uploads/2023/05/Penn-State-Alumni-Aphasia-Group-Flyer-scaled.jpg
ORGANIZER;CN="Penn State Alumni Aphasia Group":MAILTO:psualumniaphasia@gmail.com
END:VEVENT
BEGIN:VEVENT
DTSTART;TZID=America/New_York:20270422T190000
DTEND;TZID=America/New_York:20270422T200000
DTSTAMP:20260419T090940
CREATED:20260114T001819Z
LAST-MODIFIED:20260114T001820Z
UID:10000181-1808420400-1808424000@www.psu-aphasia.com
SUMMARY:PSU Alumni Aphasia Group Next Monthly Meeting
DESCRIPTION:Hey\, who have alumni or care from someone who does and SLP Alums in aphasia: Come to our next meeting! We will be sharing stories about mementos from Penn State. See you there! Please spread the word.
URL:https://www.psu-aphasia.com/event/psu-alumni-aphasia-group-next-monthly-meeting-2-2-2/2027-04-22/
CATEGORIES:PSU-Aphasia
ATTACH;FMTTYPE=image/jpeg:https://www.psu-aphasia.com/wp-content/uploads/2023/05/Penn-State-Alumni-Aphasia-Group-Flyer-scaled.jpg
ORGANIZER;CN="Penn State Alumni Aphasia Group":MAILTO:psualumniaphasia@gmail.com
END:VEVENT
BEGIN:VEVENT
DTSTART;TZID=America/New_York:20270527T190000
DTEND;TZID=America/New_York:20270527T200000
DTSTAMP:20260419T090940
CREATED:20260114T001819Z
LAST-MODIFIED:20260114T001820Z
UID:10000182-1811444400-1811448000@www.psu-aphasia.com
SUMMARY:PSU Alumni Aphasia Group Next Monthly Meeting
DESCRIPTION:Hey\, who have alumni or care from someone who does and SLP Alums in aphasia: Come to our next meeting! We will be sharing stories about mementos from Penn State. See you there! Please spread the word.
URL:https://www.psu-aphasia.com/event/psu-alumni-aphasia-group-next-monthly-meeting-2-2-2/2027-05-27/
CATEGORIES:PSU-Aphasia
ATTACH;FMTTYPE=image/jpeg:https://www.psu-aphasia.com/wp-content/uploads/2023/05/Penn-State-Alumni-Aphasia-Group-Flyer-scaled.jpg
ORGANIZER;CN="Penn State Alumni Aphasia Group":MAILTO:psualumniaphasia@gmail.com
END:VEVENT
BEGIN:VEVENT
DTSTART;TZID=America/New_York:20270624T190000
DTEND;TZID=America/New_York:20270624T200000
DTSTAMP:20260419T090940
CREATED:20260114T001819Z
LAST-MODIFIED:20260114T001820Z
UID:10000183-1813863600-1813867200@www.psu-aphasia.com
SUMMARY:PSU Alumni Aphasia Group Next Monthly Meeting
DESCRIPTION:Hey\, who have alumni or care from someone who does and SLP Alums in aphasia: Come to our next meeting! We will be sharing stories about mementos from Penn State. See you there! Please spread the word.
URL:https://www.psu-aphasia.com/event/psu-alumni-aphasia-group-next-monthly-meeting-2-2-2/2027-06-24/
CATEGORIES:PSU-Aphasia
ATTACH;FMTTYPE=image/jpeg:https://www.psu-aphasia.com/wp-content/uploads/2023/05/Penn-State-Alumni-Aphasia-Group-Flyer-scaled.jpg
ORGANIZER;CN="Penn State Alumni Aphasia Group":MAILTO:psualumniaphasia@gmail.com
END:VEVENT
BEGIN:VEVENT
DTSTART;TZID=America/New_York:20270722T190000
DTEND;TZID=America/New_York:20270722T200000
DTSTAMP:20260419T090940
CREATED:20260114T001819Z
LAST-MODIFIED:20260114T001820Z
UID:10000184-1816282800-1816286400@www.psu-aphasia.com
SUMMARY:PSU Alumni Aphasia Group Next Monthly Meeting
DESCRIPTION:Hey\, who have alumni or care from someone who does and SLP Alums in aphasia: Come to our next meeting! We will be sharing stories about mementos from Penn State. See you there! Please spread the word.
URL:https://www.psu-aphasia.com/event/psu-alumni-aphasia-group-next-monthly-meeting-2-2-2/2027-07-22/
CATEGORIES:PSU-Aphasia
ATTACH;FMTTYPE=image/jpeg:https://www.psu-aphasia.com/wp-content/uploads/2023/05/Penn-State-Alumni-Aphasia-Group-Flyer-scaled.jpg
ORGANIZER;CN="Penn State Alumni Aphasia Group":MAILTO:psualumniaphasia@gmail.com
END:VEVENT
BEGIN:VEVENT
DTSTART;TZID=America/New_York:20270826T190000
DTEND;TZID=America/New_York:20270826T200000
DTSTAMP:20260419T090940
CREATED:20260114T001819Z
LAST-MODIFIED:20260114T001820Z
UID:10000185-1819306800-1819310400@www.psu-aphasia.com
SUMMARY:PSU Alumni Aphasia Group Next Monthly Meeting
DESCRIPTION:Hey\, who have alumni or care from someone who does and SLP Alums in aphasia: Come to our next meeting! We will be sharing stories about mementos from Penn State. See you there! Please spread the word.
URL:https://www.psu-aphasia.com/event/psu-alumni-aphasia-group-next-monthly-meeting-2-2-2/2027-08-26/
CATEGORIES:PSU-Aphasia
ATTACH;FMTTYPE=image/jpeg:https://www.psu-aphasia.com/wp-content/uploads/2023/05/Penn-State-Alumni-Aphasia-Group-Flyer-scaled.jpg
ORGANIZER;CN="Penn State Alumni Aphasia Group":MAILTO:psualumniaphasia@gmail.com
END:VEVENT
BEGIN:VEVENT
DTSTART;TZID=America/New_York:20270923T190000
DTEND;TZID=America/New_York:20270923T200000
DTSTAMP:20260419T090940
CREATED:20260114T001819Z
LAST-MODIFIED:20260114T001820Z
UID:10000186-1821726000-1821729600@www.psu-aphasia.com
SUMMARY:PSU Alumni Aphasia Group Next Monthly Meeting
DESCRIPTION:Hey\, who have alumni or care from someone who does and SLP Alums in aphasia: Come to our next meeting! We will be sharing stories about mementos from Penn State. See you there! Please spread the word.
URL:https://www.psu-aphasia.com/event/psu-alumni-aphasia-group-next-monthly-meeting-2-2-2/2027-09-23/
CATEGORIES:PSU-Aphasia
ATTACH;FMTTYPE=image/jpeg:https://www.psu-aphasia.com/wp-content/uploads/2023/05/Penn-State-Alumni-Aphasia-Group-Flyer-scaled.jpg
ORGANIZER;CN="Penn State Alumni Aphasia Group":MAILTO:psualumniaphasia@gmail.com
END:VEVENT
BEGIN:VEVENT
DTSTART;TZID=America/New_York:20271028T190000
DTEND;TZID=America/New_York:20271028T200000
DTSTAMP:20260419T090940
CREATED:20260114T001819Z
LAST-MODIFIED:20260114T001820Z
UID:10000187-1824750000-1824753600@www.psu-aphasia.com
SUMMARY:PSU Alumni Aphasia Group Next Monthly Meeting
DESCRIPTION:Hey\, who have alumni or care from someone who does and SLP Alums in aphasia: Come to our next meeting! We will be sharing stories about mementos from Penn State. See you there! Please spread the word.
URL:https://www.psu-aphasia.com/event/psu-alumni-aphasia-group-next-monthly-meeting-2-2-2/2027-10-28/
CATEGORIES:PSU-Aphasia
ATTACH;FMTTYPE=image/jpeg:https://www.psu-aphasia.com/wp-content/uploads/2023/05/Penn-State-Alumni-Aphasia-Group-Flyer-scaled.jpg
ORGANIZER;CN="Penn State Alumni Aphasia Group":MAILTO:psualumniaphasia@gmail.com
END:VEVENT
BEGIN:VEVENT
DTSTART;TZID=America/New_York:20271125T190000
DTEND;TZID=America/New_York:20271125T200000
DTSTAMP:20260419T090940
CREATED:20260114T001819Z
LAST-MODIFIED:20260114T001820Z
UID:10000188-1827169200-1827172800@www.psu-aphasia.com
SUMMARY:PSU Alumni Aphasia Group Next Monthly Meeting
DESCRIPTION:Hey\, who have alumni or care from someone who does and SLP Alums in aphasia: Come to our next meeting! We will be sharing stories about mementos from Penn State. See you there! Please spread the word.
URL:https://www.psu-aphasia.com/event/psu-alumni-aphasia-group-next-monthly-meeting-2-2-2/2027-11-25/
CATEGORIES:PSU-Aphasia
ATTACH;FMTTYPE=image/jpeg:https://www.psu-aphasia.com/wp-content/uploads/2023/05/Penn-State-Alumni-Aphasia-Group-Flyer-scaled.jpg
ORGANIZER;CN="Penn State Alumni Aphasia Group":MAILTO:psualumniaphasia@gmail.com
END:VEVENT
END:VCALENDAR